BEGIN:VCALENDAR
VERSION:2.0
PRODID:-//jEvents 2.0 for Joomla//EN
CALSCALE:GREGORIAN
METHOD:PUBLISH
BEGIN:VEVENT
UID:4b9ab49ff7da991376fdab3687227d5f
CATEGORIES:Day Trip
CREATED:20191227T035307
SUMMARY:Mt Duppa
URL;VALUE=URI:https://www.live.nelsontrampingclub.org.nz/component/jevents/445/mt-duppa?I
 temid=111&amp;tmpl=component
DESCRIPTION:Sunday\nMt Duppa is accessed via a forestry road in the Whangamoa Valley, 3
 0km north-east of Nelson. The track climbs to gain a spur then steeply in p
 laces to the summit of Mt Duppa at 1143m. Return the same way. Good views o
 f the coast and Cable Bay. 4WD vehicles needed to access track start.\n Thi
 s event was imported from: https://www.live.nelsontrampingclub.org.nz/compo
 nent/jevents/445/mt-duppa?Itemid=111&amp;tmpl=component
X-ALT-DESC;FMTTYPE=text/html:<p><em>Sunday</em></p><p>Mt Duppa is accessed via a forestry road in the Wh
 angamoa Valley, 30km north-east of Nelson. The track climbs to gain a spur 
 then steeply in places to the summit of Mt Duppa at 1143m. Return the same 
 way. Good views of the coast and Cable Bay.<em> 4WD vehicles needed to acce
 ss track start.</em></p> <a href="https://www.live.nelsontrampingclub.org.n
 z/component/jevents/445/mt-duppa?Itemid=111&amp;tmpl=component">This event 
 was imported from: https://www.live.nelsontrampingclub.org.nz/component/jev
 ents/445/mt-duppa?Itemid=111&amp;tmpl=component</a>DTSTAMP:20260420T015858
DTSTART;VALUE=DATE:20161009
DTEND;VALUE=DATE:20161010
SEQUENCE:0
TRANSP:OPAQUE
END:VEVENT
END:VCALENDAR