BEGIN:VCALENDAR
VERSION:2.0
PRODID:-//jEvents 2.0 for Joomla//EN
CALSCALE:GREGORIAN
METHOD:PUBLISH
BEGIN:VEVENT
UID:2e3ade88a825611278c7ca6d70b3f3f1
CATEGORIES:Day Trip
CREATED:20191227T035304
SUMMARY:Bike Spooners Tunnel
URL;VALUE=URI:https://www.live.nelsontrampingclub.org.nz/component/jevents/414/bike-spoon
 ers-tunnel?Itemid=111&amp;tmpl=component
DESCRIPTION:Sunday\nEasy cycle to and through the Spooners Hill Tunnel, and return. Dis
 tance approx. 18kms return from Belgrove. The tunnel is not lit so a good h
 eadtorch or bike light is necessary.\nLeave Belgrove at 10.30am.  There is 
 the option to add distance on the return trip for those wanting more of a w
 orkout.\nFor info on the tunnel check out:\nhttp://www.stuff.co.nz/nelson-m
 ail/news/78005518/next-stage-of-tasmans-great-taste-trail-to-expand-to-incl
 ude-spooners-tunnel\n This event was imported from: https://www.live.nelson
 trampingclub.org.nz/component/jevents/414/bike-spooners-tunnel?Itemid=111&a
 mp;tmpl=component
X-ALT-DESC;FMTTYPE=text/html:<p><em>Sunday</em></p><p>Easy cycle to and through the Spooners Hill Tunnel
 , and return. Distance approx. 18kms return from Belgrove.&nbsp;<em>The tun
 nel is not lit so a good headtorch or bike light is necessary.</em></p><p>L
 eave Belgrove at 10.30am. &nbsp;There is the option to add distance on the 
 return trip for those wanting more of a workout.</p><p><em>For info on the 
 tunnel check out:</em></p><p><a href="http://www.stuff.co.nz/nelson-mail/ne
 ws/78005518/next-stage-of-tasmans-great-taste-trail-to-expand-to-include-sp
 ooners-tunnel">http://www.stuff.co.nz/nelson-mail/news/78005518/next-stage-
 of-tasmans-great-taste-trail-to-expand-to-include-spooners-tunnel</a></p> <
 a href="https://www.live.nelsontrampingclub.org.nz/component/jevents/414/bi
 ke-spooners-tunnel?Itemid=111&amp;tmpl=component">This event was imported f
 rom: https://www.live.nelsontrampingclub.org.nz/component/jevents/414/bike-
 spooners-tunnel?Itemid=111&amp;tmpl=component</a>DTSTAMP:20260420T010104
DTSTART;VALUE=DATE:20160703
DTEND;VALUE=DATE:20160704
SEQUENCE:0
TRANSP:OPAQUE
END:VEVENT
END:VCALENDAR