BEGIN:VCALENDAR
VERSION:2.0
PRODID:-//jEvents 2.0 for Joomla//EN
CALSCALE:GREGORIAN
METHOD:PUBLISH
BEGIN:VEVENT
UID:b57c40bc245907dc669d61474cec541f
CATEGORIES:Day Trip
CREATED:20191227T035304
SUMMARY:Mt Campbell from Brooklyn
URL;VALUE=URI:https://www.live.nelsontrampingclub.org.nz/component/jevents/412/mt-campbel
 l-from-brooklyn?Itemid=111&amp;tmpl=component
DESCRIPTION:Sunday\nVia Brooklyn Valley.  Walking on 4wd roads through farmland (permis
 sion required), then through a patch of native bush to an old communication
 s installation.  From there the road joins the Mt Campbell communications a
 ccess road to the big aerial tower on the top of Mt Campbell where there ar
 e great views in all directions. 14km with 900m climb.\n This event was imp
 orted from: https://www.live.nelsontrampingclub.org.nz/component/jevents/41
 2/mt-campbell-from-brooklyn?Itemid=111&amp;tmpl=component
X-ALT-DESC;FMTTYPE=text/html:<p style="font-family: Verdana, 'Bitstream Vera Sans', Arial, Helvetica, sa
 ns-serif; line-height: 14px; text-align: justify; background-color: #ffffff
 ;"><em>Sunday</em></p><p style="font-size: 12px; font-family: Verdana; colo
 r: #333233;">Via Brooklyn Valley.&nbsp;&nbsp;Walking on 4wd roads through&n
 bsp;farmland (permission required), then through a patch of native bush to 
 an old communications installation.&nbsp; From there the road joins the Mt 
 Campbell communications&nbsp;access road to the big aerial tower on&nbsp;th
 e top of&nbsp;Mt Campbell where there are great views in all directions. 14
 km with 900m climb.</p> <a href="https://www.live.nelsontrampingclub.org.nz
 /component/jevents/412/mt-campbell-from-brooklyn?Itemid=111&amp;tmpl=compon
 ent">This event was imported from: https://www.live.nelsontrampingclub.org.
 nz/component/jevents/412/mt-campbell-from-brooklyn?Itemid=111&amp;tmpl=comp
 onent</a>DTSTAMP:20260420T021145
DTSTART;VALUE=DATE:20160522
DTEND;VALUE=DATE:20160523
SEQUENCE:0
TRANSP:OPAQUE
END:VEVENT
END:VCALENDAR