BEGIN:VCALENDAR
VERSION:2.0
PRODID:-//jEvents 2.0 for Joomla//EN
CALSCALE:GREGORIAN
METHOD:PUBLISH
BEGIN:VEVENT
UID:f2d958037d4a53cb75c562a79f397daf
CATEGORIES:Day Trip
CREATED:20191227T035302
SUMMARY:Grampians - Easy
URL;VALUE=URI:https://www.live.nelsontrampingclub.org.nz/component/jevents/383/grampians-
 easy?Itemid=111&amp;tmpl=component
DESCRIPTION:Contact Kate at This email address is being protected from spambots. You ne
 ed JavaScript enabled to view it. or 547 6463 or\n 027 246 0185\nSunday\nCa
 naan to Marahau has proved too logistically difficult trying to organise a 
 car shuttle so I've changed the trip to a nice easy loop around the Grampia
 ns. \nMeet at 11 Anglia Street at 10am. Walk up to the Kahikatea track off 
 of Market Road in Bishopdale. Descend via the Ronaki Track. \nThe walk take
 s around 2 hours depending on how much we amble along. There are great view
 s from the lookout below the summit.\nBBQ and cold drinks at my place on ou
 r return. \n This event was imported from: https://www.live.nelsontrampingc
 lub.org.nz/component/jevents/383/grampians-easy?Itemid=111&amp;tmpl=compone
 nt
X-ALT-DESC;FMTTYPE=text/html:<p><em>Contact Kate at <joomla-hidden-mail  is-link="1" is-email="1" first=
 "azhr" last="eHRyYS5jby5ueg==" text="azhrQHh0cmEuY28ubno=" base="" >This em
 ail address is being protected from spambots. You need JavaScript enabled t
 o view it.</joomla-hidden-mail> or 547 6463 or</em></p><p><em> 027 246 0185
 </em></p><p><em>Sunday</em></p><div><p>Canaan to Marahau has proved too log
 istically difficult trying to organise a car shuttle so I've changed the tr
 ip to a nice easy loop around the Grampians.&nbsp;</p><p>Meet at 11 Anglia 
 Street at 10am. Walk up to the Kahikatea track off of Market Road in Bishop
 dale. Descend via the Ronaki Track.&nbsp;</p><p>The walk takes around 2 hou
 rs depending on how much we amble along. There are great views from the loo
 kout below the summit.</p><p><em>BBQ and cold drinks at my place on our ret
 urn.&nbsp;</em></p></div> <a href="https://www.live.nelsontrampingclub.org.
 nz/component/jevents/383/grampians-easy?Itemid=111&amp;tmpl=component">This
  event was imported from: https://www.live.nelsontrampingclub.org.nz/compon
 ent/jevents/383/grampians-easy?Itemid=111&amp;tmpl=component</a>DTSTAMP:20260420T005325
DTSTART;VALUE=DATE:20160228
DTEND;VALUE=DATE:20160229
SEQUENCE:0
TRANSP:OPAQUE
END:VEVENT
END:VCALENDAR