BEGIN:VCALENDAR
VERSION:2.0
PRODID:-//jEvents 2.0 for Joomla//EN
CALSCALE:GREGORIAN
METHOD:PUBLISH
BEGIN:VEVENT
UID:e0878f67061d2d96f1f704adc2f343d7
CATEGORIES:Day Trip
CREATED:20191227T035301
SUMMARY:Trig K, Pelorus Bridge
URL;VALUE=URI:https://www.live.nelsontrampingclub.org.nz/component/jevents/371/trig-k,-pe
 lorus-bridge?Itemid=111&amp;tmpl=component
DESCRIPTION:Sunday\nLoop track starting and finishing at the Pelorus Bridge car park. 6
 km and 390m climb. Chance to cool off in the river on return.\n This event 
 was imported from: https://www.live.nelsontrampingclub.org.nz/component/jev
 ents/371/trig-k,-pelorus-bridge?Itemid=111&amp;tmpl=component
X-ALT-DESC;FMTTYPE=text/html:<p><em>Sunday</em></p><p>Loop track starting and finishing at the Pelorus B
 ridge car park. 6km and 390m climb. Chance to cool off in the river on retu
 rn.</p> <a href="https://www.live.nelsontrampingclub.org.nz/component/jeven
 ts/371/trig-k,-pelorus-bridge?Itemid=111&amp;tmpl=component">This event was
  imported from: https://www.live.nelsontrampingclub.org.nz/component/jevent
 s/371/trig-k,-pelorus-bridge?Itemid=111&amp;tmpl=component</a>DTSTAMP:20260419T232848
DTSTART;VALUE=DATE:20151213
DTEND;VALUE=DATE:20151214
SEQUENCE:0
TRANSP:OPAQUE
END:VEVENT
END:VCALENDAR