BEGIN:VCALENDAR
VERSION:2.0
PRODID:-//jEvents 2.0 for Joomla//EN
CALSCALE:GREGORIAN
METHOD:PUBLISH
BEGIN:VEVENT
UID:59c3dc643bcf05d9cca6992f4c13f5b8
CATEGORIES:Day Trip
CREATED:20191227T035301
SUMMARY:Bike Ride 
URL;VALUE=URI:https://www.live.nelsontrampingclub.org.nz/component/jevents/370/bike-ride?
 Itemid=111&amp;tmpl=component
DESCRIPTION:Meet at Brightwater Tavern at 12.30pm and ride a circuit through the Wairoa
  Valley, Pig Valley and Wakefield before returning to Brightwater (approx. 
 36kms).\n This event was imported from: https://www.live.nelsontrampingclub
 .org.nz/component/jevents/370/bike-ride?Itemid=111&amp;tmpl=component
X-ALT-DESC;FMTTYPE=text/html:<p>Meet at Brightwater Tavern at 12.30pm and ride a circuit through the Wai
 roa Valley, Pig Valley and Wakefield before returning to Brightwater (appro
 x. 36kms).</p> <a href="https://www.live.nelsontrampingclub.org.nz/componen
 t/jevents/370/bike-ride?Itemid=111&amp;tmpl=component">This event was impor
 ted from: https://www.live.nelsontrampingclub.org.nz/component/jevents/370/
 bike-ride?Itemid=111&amp;tmpl=component</a>DTSTAMP:20260420T022839
DTSTART;VALUE=DATE:20151101
DTEND;VALUE=DATE:20151102
SEQUENCE:0
TRANSP:OPAQUE
END:VEVENT
END:VCALENDAR