BEGIN:VCALENDAR
VERSION:2.0
PRODID:-//jEvents 2.0 for Joomla//EN
CALSCALE:GREGORIAN
METHOD:PUBLISH
BEGIN:VEVENT
UID:4351b7854f7418428ade17981a9b666e
CATEGORIES:Overnight Trip
CREATED:20191227T035257
SUMMARY:Lake Camp, Cobb Valley
URL;VALUE=URI:https://www.live.nelsontrampingclub.org.nz/component/jevents/324/lake-camp,
 -cobb-valley?Itemid=111&amp;tmpl=component
DESCRIPTION:From Trilobite road end 10 km easy walking to Tent Camp, then climb 340 m o
 ver 1 km through bush to Lake Camp (1270 m) on SE side of the valley. Optio
 nal climb of Mt Prospect, 1700 m. As the name of the lake indicates, bring 
 tents.\n This event was imported from: https://www.live.nelsontrampingclub.
 org.nz/component/jevents/324/lake-camp,-cobb-valley?Itemid=111&amp;tmpl=com
 ponent
X-ALT-DESC;FMTTYPE=text/html:<p>From Trilobite road end 10 km easy walking to Tent Camp, then climb 340 
 m over 1 km through bush to Lake Camp (1270 m) on SE side of the valley. Op
 tional climb of Mt Prospect, 1700 m. As the name of the lake indicates, bri
 ng tents.</p> <a href="https://www.live.nelsontrampingclub.org.nz/component
 /jevents/324/lake-camp,-cobb-valley?Itemid=111&amp;tmpl=component">This eve
 nt was imported from: https://www.live.nelsontrampingclub.org.nz/component/
 jevents/324/lake-camp,-cobb-valley?Itemid=111&amp;tmpl=component</a>DTSTAMP:20260420T004303
DTSTART;VALUE=DATE:20150411
DTEND;VALUE=DATE:20150412
SEQUENCE:0
TRANSP:OPAQUE
END:VEVENT
END:VCALENDAR