BEGIN:VCALENDAR
VERSION:2.0
PRODID:-//jEvents 2.0 for Joomla//EN
CALSCALE:GREGORIAN
METHOD:PUBLISH
BEGIN:VEVENT
UID:ed5e8922c9f1bb280f9bad2d5d0aeea2
CATEGORIES:Day Trip
CREATED:20191227T035255
SUMMARY:Barnicoat to Richmond 
URL;VALUE=URI:https://www.live.nelsontrampingclub.org.nz/component/jevents/303/barnicoat-
 to-richmond?Itemid=111&amp;tmpl=component
DESCRIPTION:Sunday\nClimb the Barnicoat and cross over along the tops to Richmond. \n T
 his event was imported from: https://www.live.nelsontrampingclub.org.nz/com
 ponent/jevents/303/barnicoat-to-richmond?Itemid=111&amp;tmpl=component
X-ALT-DESC;FMTTYPE=text/html:<p><em>Sunday</em></p><p>Climb the Barnicoat and cross over along the tops 
 to Richmond.&nbsp;</p> <a href="https://www.live.nelsontrampingclub.org.nz/
 component/jevents/303/barnicoat-to-richmond?Itemid=111&amp;tmpl=component">
 This event was imported from: https://www.live.nelsontrampingclub.org.nz/co
 mponent/jevents/303/barnicoat-to-richmond?Itemid=111&amp;tmpl=component</a>DTSTAMP:20260420T004553
DTSTART;VALUE=DATE:20150222
DTEND;VALUE=DATE:20150223
SEQUENCE:0
TRANSP:OPAQUE
END:VEVENT
END:VCALENDAR