BEGIN:VCALENDAR
VERSION:2.0
PRODID:-//jEvents 2.0 for Joomla//EN
CALSCALE:GREGORIAN
METHOD:PUBLISH
BEGIN:VEVENT
UID:f00112c28a7b17c85bf2917f6dbb6961
CATEGORIES:Day Trip
CREATED:20191227T035255
SUMMARY:Mt Duppa/Pelorus Bridge
URL;VALUE=URI:https://www.live.nelsontrampingclub.org.nz/component/jevents/301/mt-duppa-p
 elorus-bridge?Itemid=111&amp;tmpl=component
DESCRIPTION:Sunday\nClimb Mt Duppa (1143m) in the morning then drive to Pelorus Bridge 
 for a refreshing swim in the river.\n This event was imported from: https:/
 /www.live.nelsontrampingclub.org.nz/component/jevents/301/mt-duppa-pelorus-
 bridge?Itemid=111&amp;tmpl=component
X-ALT-DESC;FMTTYPE=text/html:<p><em>Sunday</em></p><p>Climb Mt Duppa (1143m) in the morning then drive t
 o Pelorus Bridge for a refreshing swim in the river.</p> <a href="https://w
 ww.live.nelsontrampingclub.org.nz/component/jevents/301/mt-duppa-pelorus-br
 idge?Itemid=111&amp;tmpl=component">This event was imported from: https://w
 ww.live.nelsontrampingclub.org.nz/component/jevents/301/mt-duppa-pelorus-br
 idge?Itemid=111&amp;tmpl=component</a>DTSTAMP:20260419T231054
DTSTART;VALUE=DATE:20150118
DTEND;VALUE=DATE:20150119
SEQUENCE:0
TRANSP:OPAQUE
END:VEVENT
END:VCALENDAR