BEGIN:VCALENDAR
VERSION:2.0
PRODID:-//jEvents 2.0 for Joomla//EN
CALSCALE:GREGORIAN
METHOD:PUBLISH
BEGIN:VEVENT
UID:18d37e2c788dc04518490313778cd832
CATEGORIES:Day Trip
CREATED:20191227T035255
SUMMARY:Ben Nevis
URL;VALUE=URI:https://www.live.nelsontrampingclub.org.nz/component/jevents/296/ben-nevis?
 Itemid=111&amp;tmpl=component
DESCRIPTION:Sunday\nFrom Wairoa area, climb from road end to the summit at 1619m. Retur
 n the same way.\n This event was imported from: https://www.live.nelsontram
 pingclub.org.nz/component/jevents/296/ben-nevis?Itemid=111&amp;tmpl=compone
 nt
X-ALT-DESC;FMTTYPE=text/html:<p><em>Sunday</em></p><p>From Wairoa area, climb from road end to the summi
 t at 1619m. Return the same way.</p> <a href="https://www.live.nelsontrampi
 ngclub.org.nz/component/jevents/296/ben-nevis?Itemid=111&amp;tmpl=component
 ">This event was imported from: https://www.live.nelsontrampingclub.org.nz/
 component/jevents/296/ben-nevis?Itemid=111&amp;tmpl=component</a>DTSTAMP:20260419T231202
DTSTART;VALUE=DATE:20141130
DTEND;VALUE=DATE:20141201
SEQUENCE:0
TRANSP:OPAQUE
END:VEVENT
END:VCALENDAR