BEGIN:VCALENDAR
VERSION:2.0
PRODID:-//jEvents 2.0 for Joomla//EN
CALSCALE:GREGORIAN
METHOD:PUBLISH
BEGIN:VEVENT
UID:bb97d935e78784fe216f117a68eaf2be
CATEGORIES:Overnight Trip
CREATED:20191227T035254
SUMMARY:Mt Mantell
URL;VALUE=URI:https://www.live.nelsontrampingclub.org.nz/component/jevents/284/mt-mantell
 ?Itemid=111&amp;tmpl=component
DESCRIPTION:Let's head to Murchison. Saturday we will be driving there and checking out
  some day walks... stay in backpackers/campground. Details to follow, expec
 tation is you book your own accommodation: go swanky if you wish!\nSunday: 
 rise early-ish and make tracks up to Mt Mantell (1606m), 8 - 9 hours return
  with a 1200m climb. Pack free day!\nI'll be in Murch Saturday, so I will p
 ut interested people together to share cars and leave you guys to plan your
  Saturday. Will meet you all Sunday morning to head up the mountain :  )  O
 ption therefore is just to head on up for the Sunday for those that just wa
 nt a day walk, we will be leaving around 8 - 830 for hike though!\n\n This 
 event was imported from: https://www.live.nelsontrampingclub.org.nz/compone
 nt/jevents/284/mt-mantell?Itemid=111&amp;tmpl=component
X-ALT-DESC;FMTTYPE=text/html:<p>Let's head to Murchison. Saturday we will be driving there and checking 
 out some day walks... stay in backpackers/campground. Details to follow, ex
 pectation is you book your own accommodation: go swanky if you wish!</p><p>
 Sunday: rise early-ish and make tracks up to Mt Mantell (1606m), 8 - 9 hour
 s return with a 1200m climb. <em>Pack free day!</em></p><p><em><strong>I'll
  be in Murch Saturday, so I will put interested people together to share ca
 rs and leave you guys to plan your Saturday. Will meet you all Sunday morni
 ng to head up the mountain :&nbsp; )&nbsp; Option therefore is just to head
  on up for the Sunday for those that just want a day walk, we will be leavi
 ng around 8 - 830 for hike though!</strong><br /></em></p> <a href="https:/
 /www.live.nelsontrampingclub.org.nz/component/jevents/284/mt-mantell?Itemid
 =111&amp;tmpl=component">This event was imported from: https://www.live.nel
 sontrampingclub.org.nz/component/jevents/284/mt-mantell?Itemid=111&amp;tmpl
 =component</a>DTSTAMP:20260419T231059
DTSTART;VALUE=DATE:20150110
DTEND;VALUE=DATE:20150111
SEQUENCE:0
TRANSP:OPAQUE
END:VEVENT
END:VCALENDAR