BEGIN:VCALENDAR
VERSION:2.0
PRODID:-//jEvents 2.0 for Joomla//EN
CALSCALE:GREGORIAN
METHOD:PUBLISH
BEGIN:VEVENT
UID:f1dcde6e18cf907f41d11e9841527d37
CATEGORIES:Day Trip
CREATED:20191227T035252
SUMMARY:Cable Bay Walkway
URL;VALUE=URI:https://www.live.nelsontrampingclub.org.nz/component/jevents/259/cable-bay-
 walkway?Itemid=111&amp;tmpl=component
DESCRIPTION:This email address is being protected from spambots. You need JavaScript en
 abled to view it.\nSaturday\nFrom Glenduan follow the walkway over the hill
 s to a highpoint overlooking Cable Bay. Great views of the Nelson coastline
  along the way. The tides are right to go out via the beach and return on t
 he high route if the group prefers.\n This event was imported from: https:/
 /www.live.nelsontrampingclub.org.nz/component/jevents/259/cable-bay-walkway
 ?Itemid=111&amp;tmpl=component
X-ALT-DESC;FMTTYPE=text/html:<p><strong><joomla-hidden-mail  is-link="1" is-email="1" first="ZWxpemRvb2x
 leQ==" last="aG90bWFpbC5jb20=" text="ZWxpemRvb2xleUBob3RtYWlsLmNvbQ==" base
 ="" >This email address is being protected from spambots. You need JavaScri
 pt enabled to view it.</joomla-hidden-mail></strong></p><p><em>Saturday</em
 ></p><p>From Glenduan follow the walkway over the hills to a highpoint over
 looking Cable Bay. Great views of the Nelson coastline along the way. The t
 ides are right to go out via the beach and return on the high route if the 
 group prefers.</p> <a href="https://www.live.nelsontrampingclub.org.nz/comp
 onent/jevents/259/cable-bay-walkway?Itemid=111&amp;tmpl=component">This eve
 nt was imported from: https://www.live.nelsontrampingclub.org.nz/component/
 jevents/259/cable-bay-walkway?Itemid=111&amp;tmpl=component</a>DTSTAMP:20260420T004506
DTSTART;VALUE=DATE:20140719
DTEND;VALUE=DATE:20140720
SEQUENCE:0
TRANSP:OPAQUE
END:VEVENT
END:VCALENDAR