BEGIN:VCALENDAR
VERSION:2.0
PRODID:-//jEvents 2.0 for Joomla//EN
CALSCALE:GREGORIAN
METHOD:PUBLISH
BEGIN:VEVENT
UID:dbf137413a86f8573a04a03dacde7ef2
CATEGORIES:Day Trip
CREATED:20191227T035246
SUMMARY:Cape Campbell Lighthouse
URL;VALUE=URI:https://www.live.nelsontrampingclub.org.nz/component/jevents/185/cape-campb
 ell-lighthouse?Itemid=111&amp;tmpl=component
DESCRIPTION:Sunday (early start)\nFrom Clifford Bay, at the southernmost extremity of C
 ook Strait, follow the coastline for 7kms from Marfells Beach to Cape Campb
 ell and its historic lighthouse. A new walk for the club.\n \n This event w
 as imported from: https://www.live.nelsontrampingclub.org.nz/component/jeve
 nts/185/cape-campbell-lighthouse?Itemid=111&amp;tmpl=component
X-ALT-DESC;FMTTYPE=text/html:<p><span style="font-size: 13px;"><em>Sunday (early start)</em></span></p><
 p><span style="font-size: 13px;">From Clifford Bay, at the southernmost ext
 remity of Cook Strait, follow the coastline for 7kms from Marfells Beach to
  Cape Campbell and its historic lighthouse. A new walk for the club.</span>
 </p><p>&nbsp;</p> <a href="https://www.live.nelsontrampingclub.org.nz/compo
 nent/jevents/185/cape-campbell-lighthouse?Itemid=111&amp;tmpl=component">Th
 is event was imported from: https://www.live.nelsontrampingclub.org.nz/comp
 onent/jevents/185/cape-campbell-lighthouse?Itemid=111&amp;tmpl=component</a
 >DTSTAMP:20260420T005313
DTSTART;VALUE=DATE:20131117
DTEND;VALUE=DATE:20131118
SEQUENCE:0
TRANSP:OPAQUE
END:VEVENT
END:VCALENDAR