BEGIN:VCALENDAR
VERSION:2.0
PRODID:-//jEvents 2.0 for Joomla//EN
CALSCALE:GREGORIAN
METHOD:PUBLISH
BEGIN:VEVENT
UID:146bdeceee9b3cf79d74eb91f1f20304
CATEGORIES:Day Trip
CREATED:20260407T095238
SUMMARY:Ben Nevis
URL;VALUE=URI:https://www.live.nelsontrampingclub.org.nz/component/jevents/1593/ben-nevis
 ?Itemid=111&amp;tmpl=component
DESCRIPTION:Follow the Gibbs Spur track to the top of Ben Nevis (800m climb over 4km). 
  Option to continue a bit further along the ridge if time and weather allow
 .  Return the same way.  4WD vehicles needed to get up the forestry roads.T
 rip Leader : Michele Cunningham\nPhone : 021 537 421 \nEmail : This email a
 ddress is being protected from spambots. You need JavaScript enabled to vie
 w it.\nArea : Mt Richmond Forest Park\nPanic Date : 03-05-2026\nGrading : S
 elect an appropriate grade for the hardest day on your Trip.\nGrade : Mediu
 m - Fit\nCost : The travel distances are used to calculate the cost of a tr
 ip. The trip co-ordinator will complete these values. However, if you know 
 the values, for example by using Google Maps, then by all means complete. M
 ake sure the values (double to include return journey) are correct to be fa
 ir to the drivers and participants. IMPORTANT: The rate table needs to have
  a month and year value for cents/kilometre. Trip coordinator is responsibl
 e to entering this information.\nSealed km (Enter the number of kms travell
 ed on sealed roads to/from the trip) : 0\nUnsealed km (Enter the number of 
 kms travelled on unsealed roads to/from trip.) : 0\nSignoff : Default is Pr
 ogramme, please set the Status to either 'Completed' or 'Cancelled' when ap
 propriate. Also enter the number of Visitor and Total numbers on your trip.
  Thanks. NOTE: When the status is Completed or Cancelled the event WON'T ap
 pear on the Home page calendars.\nEvent Status : Programme\n This event was
  imported from: https://www.live.nelsontrampingclub.org.nz/component/jevent
 s/1593/ben-nevis?Itemid=111&amp;tmpl=component
X-ALT-DESC;FMTTYPE=text/html:Follow the Gibbs Spur track to the top of Ben Nevis (800m climb over 4km). 
  Option to continue a bit further along the ridge if time and weather allow
 .  Return the same way.  4WD vehicles needed to get up the forestry roads.<
 table border='0'><tr><td class='label'>Trip Leader : </td><td><div class="j
 ev_cfuser_profile"><div class="jev_cfuser_name">Michele Cunningham</div></d
 iv>\n</td></tr><tr><td class='label'>Phone : </td><td>021 537 421 \n</td></
 tr><tr><td class='label'>Email : </td><td><joomla-hidden-mail  is-link="1" 
 is-email="0" first="bWljaGVsZWMxNDY=" last="Z21haWwuY29t" text="bWljaGVsZWM
 xNDZAZ21haWwuY29t" base="" >This email address is being protected from spam
 bots. You need JavaScript enabled to view it.</joomla-hidden-mail>\n</td></
 tr><tr><td class='label'>Area : </td><td>Mt Richmond Forest Park\n</td></tr
 ><tr><td class='label'>Panic Date : </td><td>03-05-2026\n</td></tr><tr><td 
 class='label'>Grading : </td><td>Select an appropriate grade for the hardes
 t day on your Trip.\n</td></tr><tr><td class='label'>Grade : </td><td>Mediu
 m - Fit\n</td></tr><tr><td class='label'>Cost : </td><td>The travel distanc
 es are used to calculate the cost of a trip. The trip co-ordinator will com
 plete these values. However, if you know the values, for example by using G
 oogle Maps, then by all means complete. Make sure the values (double to inc
 lude return journey) are correct to be fair to the drivers and participants
 . IMPORTANT: The rate table needs to have a month and year value for cents/
 kilometre. Trip coordinator is responsible to entering this information.\n<
 /td></tr><tr><td class='label'>Sealed km (Enter the number of kms travelled
  on sealed roads to/from the trip) : </td><td>0\n</td></tr><tr><td class='l
 abel'>Unsealed km (Enter the number of kms travelled on unsealed roads to/f
 rom trip.) : </td><td>0\n</td></tr><tr><td class='label'>Signoff : </td><td
 >Default is Programme, please set the Status to either 'Completed' or 'Canc
 elled' when appropriate. Also enter the number of Visitor and Total numbers
  on your trip. Thanks. NOTE: When the status is Completed or Cancelled the 
 event WON'T appear on the Home page calendars.\n</td></tr><tr><td class='la
 bel'>Event Status : </td><td>Programme\n</td></tr></table> <a href="https:/
 /www.live.nelsontrampingclub.org.nz/component/jevents/1593/ben-nevis?Itemid
 =111&amp;tmpl=component">This event was imported from: https://www.live.nel
 sontrampingclub.org.nz/component/jevents/1593/ben-nevis?Itemid=111&amp;tmpl
 =component</a>DTSTAMP:20260419T184433
DTSTART;VALUE=DATE:20260503
DTEND;VALUE=DATE:20260504
SEQUENCE:0
TRANSP:OPAQUE
END:VEVENT
END:VCALENDAR