BEGIN:VCALENDAR
VERSION:2.0
PRODID:-//jEvents 2.0 for Joomla//EN
CALSCALE:GREGORIAN
METHOD:PUBLISH
BEGIN:VEVENT
UID:bbe3e4dbc9774b42e64e5222ffb99d3c
CATEGORIES:Extended Trip
CREATED:20260407T081631
SUMMARY:Murchison Meanderings
URL;VALUE=URI:https://www.live.nelsontrampingclub.org.nz/component/jevents/1591/murchison
 -meanderings?Itemid=111&amp;tmpl=component
DESCRIPTION:LABOUR WEEKEND.Drive to Murchison on Friday night and base ourselves in the
  Murchison Camping Ground. Return to Nelson Monday afternoon/evening.Explor
 e:- 1000 acre Plateau; OR Mole Tops OR Whitewater Rafting/Jetboating OR Mt 
 Mantell. OR a Mystery Trip to a previous NTC destination?Lots of options fr
 om a central base.Trip Leader : Graeme Ferrier\nPhone :  022 162 1676\nEmai
 l : This email address is being protected from spambots. You need JavaScrip
 t enabled to view it.\nArea : Kahurangi National Park\nPanic Date : 01-11-2
 026\nGrading : Select an appropriate grade for the hardest day on your Trip
 .\nGrade : N/A\nCost : The travel distances are used to calculate the cost 
 of a trip. The trip co-ordinator will complete these values. However, if yo
 u know the values, for example by using Google Maps, then by all means comp
 lete. Make sure the values (double to include return journey) are correct t
 o be fair to the drivers and participants. IMPORTANT: The rate table needs 
 to have a month and year value for cents/kilometre. Trip coordinator is res
 ponsible to entering this information.\nSealed km (Enter the number of kms 
 travelled on sealed roads to/from the trip) : 0\nUnsealed km (Enter the num
 ber of kms travelled on unsealed roads to/from trip.) : 0\nSignoff : Defaul
 t is Programme, please set the Status to either 'Completed' or 'Cancelled' 
 when appropriate. Also enter the number of Visitor and Total numbers on you
 r trip. Thanks. NOTE: When the status is Completed or Cancelled the event W
 ON'T appear on the Home page calendars.\nEvent Status : Programme\n This ev
 ent was imported from: https://www.live.nelsontrampingclub.org.nz/component
 /jevents/1591/murchison-meanderings?Itemid=111&amp;tmpl=component
X-ALT-DESC;FMTTYPE=text/html:LABOUR WEEKEND.Drive to Murchison on Friday night and base ourselves in the
  Murchison Camping Ground. Return to Nelson Monday afternoon/evening.Explor
 e:- 1000 acre Plateau; OR Mole Tops OR Whitewater Rafting/Jetboating OR Mt 
 Mantell. OR a Mystery Trip to a previous NTC destination?Lots of options fr
 om a central base.<table border='0'><tr><td class='label'>Trip Leader : </t
 d><td><div class="jev_cfuser_profile"><div class="jev_cfuser_name">Graeme F
 errier</div></div>\n</td></tr><tr><td class='label'>Phone : </td><td> 022 1
 62 1676\n</td></tr><tr><td class='label'>Email : </td><td><joomla-hidden-ma
 il  is-link="1" is-email="0" first="ZmVycmllcmcx" last="Z21haWwuY29t" text=
 "ZmVycmllcmcxQGdtYWlsLmNvbQ==" base="" >This email address is being protect
 ed from spambots. You need JavaScript enabled to view it.</joomla-hidden-ma
 il>\n</td></tr><tr><td class='label'>Area : </td><td>Kahurangi National Par
 k\n</td></tr><tr><td class='label'>Panic Date : </td><td>01-11-2026\n</td><
 /tr><tr><td class='label'>Grading : </td><td>Select an appropriate grade fo
 r the hardest day on your Trip.\n</td></tr><tr><td class='label'>Grade : </
 td><td>N/A\n</td></tr><tr><td class='label'>Cost : </td><td>The travel dist
 ances are used to calculate the cost of a trip. The trip co-ordinator will 
 complete these values. However, if you know the values, for example by usin
 g Google Maps, then by all means complete. Make sure the values (double to 
 include return journey) are correct to be fair to the drivers and participa
 nts. IMPORTANT: The rate table needs to have a month and year value for cen
 ts/kilometre. Trip coordinator is responsible to entering this information.
 \n</td></tr><tr><td class='label'>Sealed km (Enter the number of kms travel
 led on sealed roads to/from the trip) : </td><td>0\n</td></tr><tr><td class
 ='label'>Unsealed km (Enter the number of kms travelled on unsealed roads t
 o/from trip.) : </td><td>0\n</td></tr><tr><td class='label'>Signoff : </td>
 <td>Default is Programme, please set the Status to either 'Completed' or 'C
 ancelled' when appropriate. Also enter the number of Visitor and Total numb
 ers on your trip. Thanks. NOTE: When the status is Completed or Cancelled t
 he event WON'T appear on the Home page calendars.\n</td></tr><tr><td class=
 'label'>Event Status : </td><td>Programme\n</td></tr></table> <a href="http
 s://www.live.nelsontrampingclub.org.nz/component/jevents/1591/murchison-mea
 nderings?Itemid=111&amp;tmpl=component">This event was imported from: https
 ://www.live.nelsontrampingclub.org.nz/component/jevents/1591/murchison-mean
 derings?Itemid=111&amp;tmpl=component</a>DTSTAMP:20260419T184541
DTSTART;VALUE=DATE:20261023
DTEND;VALUE=DATE:20261027
SEQUENCE:0
TRANSP:OPAQUE
END:VEVENT
END:VCALENDAR