BEGIN:VCALENDAR
VERSION:2.0
PRODID:-//jEvents 2.0 for Joomla//EN
CALSCALE:GREGORIAN
METHOD:PUBLISH
BEGIN:VEVENT
UID:c28faf83b850078886aaf4db89325272
CATEGORIES:Club Night
CREATED:20260204T204945
SUMMARY:Trip Planning Evening at The Honest Lawyer 6pm
URL;VALUE=URI:https://www.live.nelsontrampingclub.org.nz/component/jevents/1586/trip-plan
 ning-evening-at-the-honest-lawyer-6pm?Itemid=111&amp;tmpl=component
DESCRIPTION:Trip Planning Evening\nDate:     4th May 6PM\nVenue:   Honest Lawyer pub\nF
 ood provided \nProgramme:  1. Training on the new Trip Grading System - alr
 eady on the Website                       2.  Fill the trip Programme for t
 he next 6 months\nRSVP to   kath.ballantine@gmail.com\n \nYour input could 
 be: \n1     You have an idea for a trip destination.\n2     You are a Trip 
 Leader and have some Trip plan ideas\n3     You wish to become a trip leade
 r. We encourage club members to put themselves forward to be leaders - ther
 e is training and support from the committee or club leaders to guide you f
 or the first few trips you might lead.    \n \nThe Committee and all Club M
 embers appreciate greatly the effort put in by Trip Leaders providing for o
 ur enjoyment, camaraderie and fitness on the many and varied trips led over
  the past year. Please come to the Trip Planning Evening so we can continue
  as a vibrant club with a varied trip programme on the calendar.\n \n \n  T
 his event was imported from: https://www.live.nelsontrampingclub.org.nz/com
 ponent/jevents/1586/trip-planning-evening-at-the-honest-lawyer-6pm?Itemid=1
 11&amp;tmpl=component
X-ALT-DESC;FMTTYPE=text/html:Trip Planning Evening<br />Date:     4th May 6PM<br />Venue:   Honest Lawye
 r pub<br />Food provided <br />Programme:  1. Training on the new Trip Grad
 ing System - already on the Website                       2.  Fill the trip
  Programme for the next 6 months<br />RSVP to   kath.ballantine@gmail.com<b
 r /> <br />Your input could be: <br />1     You have an idea for a trip des
 tination.<br />2     You are a Trip Leader and have some Trip plan ideas<br
  />3     You wish to become a trip leader. We encourage club members to put
  themselves forward to be leaders - there is training and support from the 
 committee or club leaders to guide you for the first few trips you might le
 ad.    <br /> <br />The Committee and all Club Members appreciate greatly t
 he effort put in by Trip Leaders providing for our enjoyment, camaraderie a
 nd fitness on the many and varied trips led over the past year. Please come
  to the Trip Planning Evening so we can continue as a vibrant club with a v
 aried trip programme on the calendar.<br /> <br /> <br />  <a href="https:/
 /www.live.nelsontrampingclub.org.nz/component/jevents/1586/trip-planning-ev
 ening-at-the-honest-lawyer-6pm?Itemid=111&amp;tmpl=component">This event wa
 s imported from: https://www.live.nelsontrampingclub.org.nz/component/jeven
 ts/1586/trip-planning-evening-at-the-honest-lawyer-6pm?Itemid=111&amp;tmpl=
 component</a>DTSTAMP:20260419T190401
DTSTART;VALUE=DATE:20260504
DTEND;VALUE=DATE:20260505
SEQUENCE:0
TRANSP:OPAQUE
END:VEVENT
END:VCALENDAR