BEGIN:VCALENDAR
VERSION:2.0
PRODID:-//jEvents 2.0 for Joomla//EN
CALSCALE:GREGORIAN
METHOD:PUBLISH
BEGIN:VEVENT
UID:55adbb3c33702537a7bdd907a9db7bbf
CATEGORIES:Extended Trip
CREATED:20241105T211458
SUMMARY:Painting Flora Hut
URL;VALUE=URI:https://www.live.nelsontrampingclub.org.nz/component/jevents/1479/painting-
 flora-hut?Itemid=111&amp;tmpl=component
DESCRIPTION:VOLUNTEERS REQUIRED. NTC has volunteered to repaint Flora Hut to give it a 
 'refresh' before the Xmas Holidays. This will include the walls, roof and t
 he chimneys (that are badly stained at present). The work will require an i
 nitial washdown before painting. The chimeys will also be given a galvanise
 d undercoat before painting. Most of the work will be done from the ground 
 with paint rollers (the walls); and from ladders for the roof and chimneys 
 - again using long-handled rollers. Brush work will be minimal if we do a g
 ood job!\nThe work needs to be spread over 2-3 days. This will probably req
 uire a 2 night stay in the Hut or in tents. Obviously good weather will be 
 essential for the work.\nAt ths stage, I am calling for expressions of inte
 rest from anyone interested in helping out. The final dates will be decided
  later but late November or early December is planned. It could be during t
 he week or over a "long" weekend - depending on what works for most peple.\
 nContact Graeme on 022 162 1676 to confirm your interest and available days
  and/or dates. Hoping for a working group of 6.\nThanks\n\n This event was 
 imported from: https://www.live.nelsontrampingclub.org.nz/component/jevents
 /1479/painting-flora-hut?Itemid=111&amp;tmpl=component
X-ALT-DESC;FMTTYPE=text/html:<p><strong>VOLUNTEERS REQUIRED.</strong> NTC has volunteered to repaint Flo
 ra Hut to give it a 'refresh' before the Xmas Holidays. This will include t
 he walls, roof and the chimneys (that are badly stained at present). The wo
 rk will require an initial washdown before painting. The chimeys will also 
 be given a galvanised undercoat before painting. Most of the work will be d
 one from the ground with paint rollers (the walls); and from ladders for th
 e roof and chimneys - again using long-handled rollers. Brush work will be 
 minimal if we do a good job!</p><p>The work needs to be spread over 2-3 day
 s. This will probably require a 2 night stay in the Hut or in tents. Obviou
 sly good weather will be essential for the work.</p><p>At ths stage, <span 
 style="text-decoration: underline;">I am calling for expressions of interes
 t from anyone interested in helping out.</span> The final dates will be dec
 ided later but late November or early December is planned. It could be duri
 ng the week or over a "long" weekend - depending on what works for most pep
 le.</p><p>Contact Graeme on 022 162 1676 to confirm your interest and avail
 able days and/or dates. Hoping for a working group of 6.</p><p>Thanks</p><p
 ></p> <a href="https://www.live.nelsontrampingclub.org.nz/component/jevents
 /1479/painting-flora-hut?Itemid=111&amp;tmpl=component">This event was impo
 rted from: https://www.live.nelsontrampingclub.org.nz/component/jevents/147
 9/painting-flora-hut?Itemid=111&amp;tmpl=component</a>DTSTAMP:20260419T232843
DTSTART;VALUE=DATE:20241106
DTEND;VALUE=DATE:20241207
SEQUENCE:0
TRANSP:OPAQUE
END:VEVENT
END:VCALENDAR