BEGIN:VCALENDAR
VERSION:2.0
PRODID:-//jEvents 2.0 for Joomla//EN
CALSCALE:GREGORIAN
METHOD:PUBLISH
BEGIN:VEVENT
UID:6ec412e4f3c08631ace42fa484d0ac94
CATEGORIES:Extended Trip
CREATED:20240505T075500
SUMMARY:NEW YEARS TRAMP : Hot Pool circuit, Nelson Tops
URL;VALUE=URI:https://www.live.nelsontrampingclub.org.nz/component/jevents/1410/new-years
 -tramp-hot-pool-circuit,-nelson-tops?Itemid=111&amp;tmpl=component
DESCRIPTION:NEW YEAR TRAMP 26 - 31 December 2025 | Lake Sumner Forest Park\nA (mostly) 
 easy ramble through red beech forest and river flats to 3 hot springs and 8
  backcountry huts. This will be a useful warm-up trip before tackling harde
 r summer tramps.\nTotal Distance: 95km. Hardest day climb: 650m elevation g
 ain off-track.\nDay 1: We drive over Lewis Pass, don boots and packs, then 
 begin walking at the aptly-named Windy Point. Very straight-forward river f
 lats make for quick progress alongside the Hope River. We veer off Te Araro
 a to stay at St Jacobs Hut. (16km).\nDay 2: A relaxed amble along to Top Ho
 pe Hut (6km) with an afternoon mission to the hot spring up (wait for it ..
 . insert drum roll) Hot Spring Stream (5km return).\nDay 3: The biggie. We 
 head up-valley to gain Hope Pass (951m), then climb 650m (vertical) up ridg
 e on to the Nelson Tops, summiting at nearly 1600m. After appreciating the 
 vegetable sheep and views, we drop down to stay at Mackenzie Bivouac and so
 ak in the nearby springs. (14km)\nDay 4: Visit Mackenzie Hut, before stream
 -bashing down to cross the Hurunui River, stopping at the main hot springs 
 above the popular TA route over Harper Pass. Either camp at springs, or pus
 h on to stay at Hurunui Hut. (&lt;12km)\nDay 5: Once across the Hurunui usi
 ng a particularly long swingbridge, we tramp north up the McMillan Stream, 
 turning NE up to Three Mile Stream Hut. (12km)\nDay 6: On the last day, we 
 head over a low bush saddle to reach the spacious Hope Kiwi Lodge, and head
  back down the Hope River from whence we came :-) 15km but on easy river fl
 ats.\n This event was imported from: https://www.live.nelsontrampingclub.or
 g.nz/component/jevents/1410/new-years-tramp-hot-pool-circuit,-nelson-tops?I
 temid=111&amp;tmpl=component
X-ALT-DESC;FMTTYPE=text/html:<p><strong>NEW YEAR TRAMP</strong> 26 - 31 December 2025 | Lake Sumner Fore
 st Park</p><p>A (mostly) easy ramble through red beech forest and river fla
 ts to<strong> 3 hot springs and 8 backcountry huts.</strong> This will be a
  useful warm-up trip before tackling harder summer tramps.</p><p><strong>To
 tal Distance</strong>: 95km. <strong>Hardest day climb</strong>: 650m eleva
 tion gain off-track.</p><p><strong>Day 1:</strong> We drive over Lewis Pass
 , don boots and packs, then begin walking at the aptly-named Windy Point. V
 ery straight-forward river flats make for quick progress alongside the Hope
  River. We veer off Te Araroa to stay at St Jacobs Hut. (16km).</p><p><stro
 ng>Day 2:</strong> A relaxed amble along to Top Hope Hut (6km) with an afte
 rnoon mission to the hot spring up (wait for it ... insert drum roll) Hot S
 pring Stream (5km return).</p><p><strong>Day 3:</strong> The biggie. We hea
 d up-valley to gain Hope Pass (951m), then climb 650m (vertical) up ridge o
 n to the Nelson Tops, summiting at nearly 1600m. After appreciating the veg
 etable sheep and views, we drop down to stay at Mackenzie Bivouac and soak 
 in the nearby springs. (14km)</p><p><strong>Day 4:</strong> Visit Mackenzie
  Hut, before stream-bashing down to cross the Hurunui River, stopping at th
 e main hot springs above the popular TA route over Harper Pass. Either camp
  at springs, or push on to stay at Hurunui Hut. (&lt;12km)</p><p><strong>Da
 y 5:</strong> Once across the Hurunui using a particularly long swingbridge
 , we tramp north up the McMillan Stream, turning NE up to Three Mile Stream
  Hut. (12km)</p><p><strong>Day 6:</strong> On the last day, we head over a 
 low bush saddle to reach the spacious Hope Kiwi Lodge, and head back down t
 he Hope River from whence we came :-) 15km but on easy river flats.</p> <a 
 href="https://www.live.nelsontrampingclub.org.nz/component/jevents/1410/new
 -years-tramp-hot-pool-circuit,-nelson-tops?Itemid=111&amp;tmpl=component">T
 his event was imported from: https://www.live.nelsontrampingclub.org.nz/com
 ponent/jevents/1410/new-years-tramp-hot-pool-circuit,-nelson-tops?Itemid=11
 1&amp;tmpl=component</a>DTSTAMP:20260420T004553
DTSTART;VALUE=DATE:20241226
DTEND;VALUE=DATE:20250101
SEQUENCE:0
TRANSP:OPAQUE
END:VEVENT
END:VCALENDAR