BEGIN:VCALENDAR
VERSION:2.0
PRODID:-//jEvents 2.0 for Joomla//EN
CALSCALE:GREGORIAN
METHOD:PUBLISH
BEGIN:VEVENT
UID:6e6e4cfac1b7bc55cf53ddb822bdbc7d
CATEGORIES:Day Trip
CREATED:20230412T223130
SUMMARY:Maitland Ridge Circuit
URL;VALUE=URI:https://www.live.nelsontrampingclub.org.nz/component/jevents/1259/maitland-
 ridge-circuit?Itemid=111&amp;tmpl=component
DESCRIPTION:This relatively new loop connects Beeby’s Knob with Red Hills Hut, creating
  a circuit. The track was developed by the MTB Trails Trust and now doubles
  as Te Araroa Trail.\nDescription:\nFrom Six Mile car park, follow the trac
 k a short distance to the junction with the track that heads left to join W
 ots up Doc. This track climbs for 3.9 km to connect with Wots up Doc, about
  1 km above From Tophouse Rd. Wots Up Doc sweeps back and forth across the 
 4WD road, the latter taking a more direct route upwards. Near the top of th
 e range the track heads through a section of beech forest with mossy underg
 rowth. At the tree line you will reach the turnoff to Maitland Ridge Track;
  continuing straight is the way to Beeby’s Knob (1442 m) and Beeby’s Hut.\n
 Maitland Ridge Track descends nearly non-stop through stunted mountain beec
 h to a saddle at 1020 m elevation, then climbs gradually through a series o
 f zig-zags toward point 1202 m, passing clearings that allow impressive vie
 ws across Wairau Valley to Raglan Range. After point 1202 m the track goes 
 through a slightly-technical descent, before crossing another saddle and cl
 imbing again to the top of the final descent down a rough 4WD track down to
  Red Hills Hut.\nFrom Red Hills Hut, descend down Red Hills Track (a 4WD ro
 ad). After 5 km the 4WD road becomes a shared track, which heads through be
 ech forest for 2 km back to Six Mile car park.\nMap: https://nelsontrails.c
 o.nz/maitland-ridge/ (https://nelsontrails.co.nz/maitland-ridge/)\nAccess: 
 Start at Six Mile car park. Ends: Tophouse Rd at the bottom of Beeby’s Knob
  4WD Road.\nDistance: Maitland Ridge alone is 7.9 km; full circuit incl. Wo
 ts Up Doc and Red Hills Track is 24.5 km.\nTime:\n This event was imported 
 from: https://www.live.nelsontrampingclub.org.nz/component/jevents/1259/mai
 tland-ridge-circuit?Itemid=111&amp;tmpl=component
X-ALT-DESC;FMTTYPE=text/html:<p>This relatively new loop connects Beeby’s Knob with Red Hills Hut, creat
 ing a circuit. The track was developed by the MTB Trails Trust and now doub
 les as Te Araroa Trail.</p><p>Description:</p><p>From Six Mile car park, fo
 llow the track a short distance to the junction with the track that heads l
 eft to join Wots up Doc. This track climbs for 3.9 km to connect with Wots 
 up Doc, about 1 km above From Tophouse Rd. Wots Up Doc sweeps back and fort
 h across the 4WD road, the latter taking a more direct route upwards. Near 
 the top of the range the track heads through a section of beech forest with
  mossy undergrowth. At the tree line you will reach the turnoff to Maitland
  Ridge Track; continuing straight is the way to Beeby’s Knob (1442 m) and B
 eeby’s Hut.</p><p>Maitland Ridge Track descends nearly non-stop through stu
 nted mountain beech to a saddle at 1020 m elevation, then climbs gradually 
 through a series of zig-zags toward point 1202 m, passing clearings that al
 low impressive views across Wairau Valley to Raglan Range. After point 1202
  m the track goes through a slightly-technical descent, before crossing ano
 ther saddle and climbing again to the top of the final descent down a rough
  4WD track down to Red Hills Hut.</p><p>From Red Hills Hut, descend down Re
 d Hills Track (a 4WD road). After 5 km the 4WD road becomes a shared track,
  which heads through beech forest for 2 km back to Six Mile car park.</p><p
 >Map: <a href="https://nelsontrails.co.nz/maitland-ridge/">https://nelsontr
 ails.co.nz/maitland-ridge/</a></p><p>Access: Start at Six Mile car park. En
 ds: Tophouse Rd at the bottom of Beeby’s Knob 4WD Road.<br />Distance: Mait
 land Ridge alone is 7.9 km; full circuit incl. Wots Up Doc and Red Hills Tr
 ack is 24.5 km.<br />Time:</p> <a href="https://www.live.nelsontrampingclub
 .org.nz/component/jevents/1259/maitland-ridge-circuit?Itemid=111&amp;tmpl=c
 omponent">This event was imported from: https://www.live.nelsontrampingclub
 .org.nz/component/jevents/1259/maitland-ridge-circuit?Itemid=111&amp;tmpl=c
 omponent</a>DTSTAMP:20260419T202304
DTSTART;VALUE=DATE:20230528
DTEND;VALUE=DATE:20230529
SEQUENCE:0
TRANSP:OPAQUE
END:VEVENT
END:VCALENDAR