BEGIN:VCALENDAR
VERSION:2.0
PRODID:-//jEvents 2.0 for Joomla//EN
CALSCALE:GREGORIAN
METHOD:PUBLISH
BEGIN:VEVENT
UID:fcb65f0e0ff7b7c9bc9945779a018ac0
CATEGORIES:Day Trip
CREATED:20191227T035241
SUMMARY:Mt Arthur
URL;VALUE=URI:https://www.live.nelsontrampingclub.org.nz/component/jevents/116/mt-arthur?
 Itemid=111&amp;tmpl=component
DESCRIPTION:Sunday From Flora carpark (yes, it's finally open again!) up ridge to summi
 t of Mt Arthur. May look at going up north east ridge to top and returning 
 via regular track. 18km and 800m climb.\n This event was imported from: htt
 ps://www.live.nelsontrampingclub.org.nz/component/jevents/116/mt-arthur?Ite
 mid=111&amp;tmpl=component
X-ALT-DESC;FMTTYPE=text/html:<p>Sunday From Flora carpark (yes, it's finally open again!) up ridge to su
 mmit of Mt Arthur. May look at going up north east ridge to top and returni
 ng via regular track. 18km and 800m climb.</p> <a href="https://www.live.ne
 lsontrampingclub.org.nz/component/jevents/116/mt-arthur?Itemid=111&amp;tmpl
 =component">This event was imported from: https://www.live.nelsontrampingcl
 ub.org.nz/component/jevents/116/mt-arthur?Itemid=111&amp;tmpl=component</a>DTSTAMP:20260419T231035
DTSTART;VALUE=DATE:20121223
DTEND;VALUE=DATE:20121224
SEQUENCE:0
TRANSP:OPAQUE
END:VEVENT
END:VCALENDAR