BEGIN:VCALENDAR
VERSION:2.0
PRODID:-//jEvents 2.0 for Joomla//EN
CALSCALE:GREGORIAN
METHOD:PUBLISH
BEGIN:VEVENT
UID:e2e1ef278c8fbe1fe69cbf9933fb0888
CATEGORIES:Day Trip
CREATED:20220312T074858
SUMMARY:Lodestone
URL;VALUE=URI:https://www.live.nelsontrampingclub.org.nz/component/jevents/1087/lodestone
 ?Itemid=111&amp;tmpl=component
DESCRIPTION:9am meet Richmond Badminton (Tennis) Club. The usual place. The walk is 4-5
  hours starting at Flora car park. The intention is that we do the circuit 
 via Flora Hut. DOC gives it as advanced but the club has it as medium. If y
 ou Google it there are lots more details on the DOC website and even better
  on Nelsontrails. The drive up to the Flora car park might need a 4WD in ba
 d weather. We have a suitable vehicle.\n This event was imported from: http
 s://www.live.nelsontrampingclub.org.nz/component/jevents/1087/lodestone?Ite
 mid=111&amp;tmpl=component
X-ALT-DESC;FMTTYPE=text/html:<p>9am meet Richmond Badminton (Tennis) Club. The usual place. The walk is 
 4-5 hours starting at Flora car park. The intention is that we do the circu
 it via Flora Hut. DOC gives it as advanced but the club has it as medium. I
 f you Google it there are lots more details on the DOC website and even bet
 ter on Nelsontrails. The drive up to the Flora car park might need a 4WD in
  bad weather. We have a suitable vehicle.</p> <a href="https://www.live.nel
 sontrampingclub.org.nz/component/jevents/1087/lodestone?Itemid=111&amp;tmpl
 =component">This event was imported from: https://www.live.nelsontrampingcl
 ub.org.nz/component/jevents/1087/lodestone?Itemid=111&amp;tmpl=component</a
 >DTSTAMP:20260419T220313
DTSTART;VALUE=DATE:20220402
DTEND;VALUE=DATE:20220403
SEQUENCE:0
TRANSP:OPAQUE
END:VEVENT
END:VCALENDAR